BEGIN:VCALENDAR
VERSION:2.0
PRODID:-//Finley Farms - ECPv6.15.20//NONSGML v1.0//EN
CALSCALE:GREGORIAN
METHOD:PUBLISH
X-ORIGINAL-URL:https://finleyfarmsmo.com
X-WR-CALDESC:Events for Finley Farms
REFRESH-INTERVAL;VALUE=DURATION:PT1H
X-Robots-Tag:noindex
X-PUBLISHED-TTL:PT1H
BEGIN:VTIMEZONE
TZID:America/Chicago
BEGIN:DAYLIGHT
TZOFFSETFROM:-0600
TZOFFSETTO:-0500
TZNAME:CDT
DTSTART:20250309T080000
END:DAYLIGHT
BEGIN:STANDARD
TZOFFSETFROM:-0500
TZOFFSETTO:-0600
TZNAME:CST
DTSTART:20251102T070000
END:STANDARD
BEGIN:DAYLIGHT
TZOFFSETFROM:-0600
TZOFFSETTO:-0500
TZNAME:CDT
DTSTART:20260308T080000
END:DAYLIGHT
BEGIN:STANDARD
TZOFFSETFROM:-0500
TZOFFSETTO:-0600
TZNAME:CST
DTSTART:20261101T070000
END:STANDARD
BEGIN:DAYLIGHT
TZOFFSETFROM:-0600
TZOFFSETTO:-0500
TZNAME:CDT
DTSTART:20270314T080000
END:DAYLIGHT
BEGIN:STANDARD
TZOFFSETFROM:-0500
TZOFFSETTO:-0600
TZNAME:CST
DTSTART:20271107T070000
END:STANDARD
END:VTIMEZONE
BEGIN:VEVENT
DTSTART;TZID=America/Chicago:20260305T183000
DTEND;TZID=America/Chicago:20260305T200000
DTSTAMP:20260421T071806
CREATED:20260123T193045Z
LAST-MODIFIED:20260209T173310Z
UID:10001330-1772735400-1772740800@finleyfarmsmo.com
SUMMARY:Martinis & Manhattans
DESCRIPTION:Join us at Finley Farms for an immersive mixology workshop where you’ll explore the art of crafting exceptional cocktails with our mixologist. \nThis session focuses on Martinis and Manhattans – going through the history and foundations of these cocktails and building upon that with modern flair. \nUpon arrival\, guests will enjoy light charcuterie and a welcome cocktail. Afterwards\, the instructor will talk through the making of the welcome cocktail and then walk guests through the making of 2 more cocktails – delving into the deeper stories behind certain ingredients and explaining various techniques.
URL:https://finleyfarmsmo.com/events/martinis-manhattens/
LOCATION:The Ozark Mill at Finley Farms\, 802 Finley Farms Lane\, Ozark\, Missouri\, 65721
CATEGORIES:Cocktails
ATTACH;FMTTYPE=image/jpeg:https://finleyfarmsmo.com/wp-content/uploads/2026/01/ambitious-studio-rick-barrett-QjUY7auDzUQ-unsplash.jpg
END:VEVENT
BEGIN:VEVENT
DTSTART;TZID=America/Chicago:20260307T110000
DTEND;TZID=America/Chicago:20260307T130000
DTSTAMP:20260421T071806
CREATED:20260123T205043Z
LAST-MODIFIED:20260209T173331Z
UID:10001331-1772881200-1772888400@finleyfarmsmo.com
SUMMARY:Pasta 101: Gnocchi Edition | A Parent & Child Cooking Experience
DESCRIPTION:Roll\, shape\, and taste your way through the art of gnocchi in this hands-on pasta class designed for kids and their parent or guardian.  \nTogether\, you’ll learn the basics of making pillowy potato gnocchi from scratch. No fancy equipment needed\, just flour\, fun\, and teamwork. \nThis class is perfect for families looking to bond over a shared love of food\, creativity\, and carbs.  \nYou’ll leave with your own batch of gnocchi\, recipe cards\, and the confidence to recreate the magic at home.
URL:https://finleyfarmsmo.com/events/pasta-101-gnocchi-edition-a-parent-child-cooking-experience-3/
LOCATION:The Ozark Mill at Finley Farms\, 802 Finley Farms Lane\, Ozark\, Missouri\, 65721
CATEGORIES:Culinary
ATTACH;FMTTYPE=image/jpeg:https://finleyfarmsmo.com/wp-content/uploads/2026/01/Full-HD-JPG-2025_Finley_Workshops_PastaClass-17.jpg
END:VEVENT
BEGIN:VEVENT
DTSTART;TZID=America/Chicago:20260312T180000
DTEND;TZID=America/Chicago:20260312T200000
DTSTAMP:20260421T071806
CREATED:20260202T213557Z
LAST-MODIFIED:20260209T173417Z
UID:10001338-1773338400-1773345600@finleyfarmsmo.com
SUMMARY:Stained Glass Mushroom Nightlight
DESCRIPTION:Come create a mushroom stained glass night light with Rebecca Lokovich.  \nThis beginner-friendly class is perfect for anyone wanting to dip their toes into the world of stained glass. Each student will receive a pre-cut and pre-ground project\, and you’ll learn how to foil and solder your piece with the guidance of a professional stained glass artisan.  \nLeave with a charming night light you crafted yourself and the confidence to explore stained glass even further! \nTickets must be purchased directly from Finley Farms. We are unable to issue refunds for tickets purchased through third party sellers.
URL:https://finleyfarmsmo.com/events/stained-glass-mushroom-nightlight/
LOCATION:The Farmstead
CATEGORIES:DIY/crafts
ATTACH;FMTTYPE=image/jpeg:https://finleyfarmsmo.com/wp-content/uploads/2026/02/IMG_3169-scaled.jpeg
END:VEVENT
BEGIN:VEVENT
DTSTART;TZID=America/Chicago:20260314T100000
DTEND;TZID=America/Chicago:20260314T120000
DTSTAMP:20260421T071806
CREATED:20260123T212304Z
LAST-MODIFIED:20260209T173453Z
UID:10001332-1773482400-1773489600@finleyfarmsmo.com
SUMMARY:Shiitake Social | Session 1
DESCRIPTION:Join us in the mushroom yard to learn how to grow culinary mushrooms outdoors on logs using basic tools with Head Farmer Brendan Sinclair.  \nParticipants will take part in preparing logs for growing and harvesting mushrooms\, including inoculating logs with shiitake mushroom spawn. By the end of the class\, students will take home a shiitake log they’ve prepared and leave with the confidence to grow mushrooms in their own backyard. \nTickets must be purchased directly from Finley Farms. We are unable to issue refunds for tickets purchased through third party sellers.
URL:https://finleyfarmsmo.com/events/shiitake-social-3-2/
LOCATION:Missouri
CATEGORIES:Gardening,Outdoor
ATTACH;FMTTYPE=image/jpeg:https://finleyfarmsmo.com/wp-content/uploads/2026/01/Full-HD-JPG-2020_FinleyFarms_TheWorkshop_Mushrooms_00022.jpg
END:VEVENT
BEGIN:VEVENT
DTSTART;TZID=America/Chicago:20260314T140000
DTEND;TZID=America/Chicago:20260314T160000
DTSTAMP:20260421T071806
CREATED:20260123T212232Z
LAST-MODIFIED:20260209T173528Z
UID:10001333-1773496800-1773504000@finleyfarmsmo.com
SUMMARY:Shiitake Social | Session 2
DESCRIPTION:Join us in the mushroom yard to learn how to grow culinary mushrooms outdoors on logs using basic tools with Head Farmer Brendan Sinclair.  \nParticipants will take part in preparing logs for growing and harvesting mushrooms\, including inoculating logs with shiitake mushroom spawn. By the end of the class\, students will take home a shiitake log they’ve prepared and leave with the confidence to grow mushrooms in their own backyard. \nTickets must be purchased directly from Finley Farms. We are unable to issue refunds for tickets purchased through third party sellers.
URL:https://finleyfarmsmo.com/events/shiitake-social-3/
LOCATION:Missouri
CATEGORIES:Gardening,Outdoor
ATTACH;FMTTYPE=image/jpeg:https://finleyfarmsmo.com/wp-content/uploads/2026/01/Full-HD-JPG-2020_FinleyFarms_TheWorkshop_Mushrooms_00025.jpg
END:VEVENT
BEGIN:VEVENT
DTSTART;TZID=America/Chicago:20260320T160000
DTEND;TZID=America/Chicago:20260320T210000
DTSTAMP:20260421T071806
CREATED:20260211T193137Z
LAST-MODIFIED:20260211T193620Z
UID:10001341-1774022400-1774040400@finleyfarmsmo.com
SUMMARY:Golden Hour Beer Launch Party with 4 By 4 Brewing Co.
DESCRIPTION:We made a beer with 4 By 4 Brewing Co.\, and we’re throwing a launch party to celebrate. \nThis Golden Hour Lager is especially meaningful to us because it was brewed with barley milled right here at The Ozark Mill.\nFor the first time since 1992\, barley is being milled at our historic mill by Lead Miller Blake Adams\, and now you can taste it in this collaboration.\n\nJoin us on the Workshop patio overlooking The Farm for the official release. During the evening you can sample the new beer\, enjoy live music\, and hear from one of our farmers about what is happening in the fields and what produce is heading to our restaurant menus.\nWood-fired pizzas and Golden Hour Lager will be available for purchase. \nThis event also kicks off Workshop After Hours\, happening every Friday night.\nAfter Hours will feature live music\, wood-fired pizzas\, the full Workshop menu\, and beer each week. \nFree to attend. Food and drinks available for purchase.
URL:https://finleyfarmsmo.com/events/golden-hour-beer-launch-party-with-4-by-4-brewing-co/
LOCATION:The Workshop\, 840 Finley Farms Ln\, Ozark\, MO\, 65721\, United States
CATEGORIES:Event
ATTACH;FMTTYPE=image/jpeg:https://finleyfarmsmo.com/wp-content/uploads/2026/02/1769719984684-1-scaled-e1770838351712.jpg
END:VEVENT
BEGIN:VEVENT
DTSTART;TZID=America/Chicago:20260320T203000
DTEND;TZID=America/Chicago:20260320T220000
DTSTAMP:20260421T071806
CREATED:20260123T215357Z
LAST-MODIFIED:20260209T221755Z
UID:10001334-1774038600-1774044000@finleyfarmsmo.com
SUMMARY:Stargazing Adventure
DESCRIPTION:The class centers on providing guests with firsthand views and descriptions of astronomical objects. The tour is designed for a small number of participants and offers a curated list of celestial targets based on that particular evening.  \nGuests will receive detailed descriptions of a variety of objects\, ample opportunities to view them through a telescope\, and time to ask questions throughout the experience. \nWe begin by outlining some of the more well-known constellations and asterisms.\nGuests then have the opportunity to observe a variety of objects within those constellations. Depending on the night\, they may view double stars\, star clusters\, nebulae\, galaxies\, and planets. Participants will learn key facts about each object and their significance to astronomers and cosmologists. \nAs the evening progresses\, we will also discuss light pollution and the dark-sky preservation efforts of Finley Farms and the City of Ozark. \nIn the event of cloudy or inclement weather\, this class will be rescheduled for March 27th.
URL:https://finleyfarmsmo.com/events/stargazing-adventure-4/
LOCATION:The Farmstead
CATEGORIES:Outdoor
ATTACH;FMTTYPE=image/jpeg:https://finleyfarmsmo.com/wp-content/uploads/2026/01/ryan-jacobson-0R_JdRQQVqw-unsplash-2.jpg
END:VEVENT
BEGIN:VEVENT
DTSTART;TZID=America/Chicago:20260321T160000
DTEND;TZID=America/Chicago:20260321T190000
DTSTAMP:20260421T071806
CREATED:20260202T214558Z
LAST-MODIFIED:20260319T192535Z
UID:10001339-1774108800-1774119600@finleyfarmsmo.com
SUMMARY:Mushroom Dinner on The Farm
DESCRIPTION:Join us for a fungus – focused dinner down at The Farm / Mushroom Yard.  \nBegin the evening by learning about our farm’s work with mushroom cultivation\, and inoculate your own mushroom log. Afterwards\, enjoy a 5 course vegetarian meal featuring a different mushroom and curated beverage pairing for each course. \n*To celebrate the beginning of spring\, this is our first farm to table dinner of the year\, with more to come.
URL:https://finleyfarmsmo.com/events/mushroom-dinner-on-the-farm/
LOCATION:Missouri
CATEGORIES:Event
ATTACH;FMTTYPE=image/jpeg:https://finleyfarmsmo.com/wp-content/uploads/2026/02/IMG_1216-2-scaled.jpeg
END:VEVENT
BEGIN:VEVENT
DTSTART;TZID=America/Chicago:20260324T180000
DTEND;TZID=America/Chicago:20260324T200000
DTSTAMP:20260421T071806
CREATED:20260123T221941Z
LAST-MODIFIED:20260309T220709Z
UID:10001335-1774375200-1774382400@finleyfarmsmo.com
SUMMARY:DIY Self-Care: Bath Salts\, Sprays & Scrubs
DESCRIPTION:Shake off winter and welcome spring with Canyon’s Edge Farm in this hands-on DIY self-care workshop. Guests will learn about the benefits of magnesium and trace minerals while creating their own bath salts\, magnesium spray\, and nourishing sugar scrub. \nThe class concludes with the formulation of an all-natural insect repellent\, ideal for spending time outdoors in the Ozarks.\n\nEach guest will leave with a complete set of handmade self-care products and the confidence to recreate them at home.
URL:https://finleyfarmsmo.com/events/diy-self-care-bath-salts-sprays-scrubs/
LOCATION:The Workshop\, 840 Finley Farms Ln\, Ozark\, MO\, 65721\, United States
CATEGORIES:DIY/crafts,Health
ATTACH;FMTTYPE=image/jpeg:https://finleyfarmsmo.com/wp-content/uploads/2026/01/sixteen-miles-out-B7DIeLgPVNk-unsplash.jpg
END:VEVENT
BEGIN:VEVENT
DTSTART;TZID=America/Chicago:20260327T180000
DTEND;TZID=America/Chicago:20260327T200000
DTSTAMP:20260421T071806
CREATED:20260326T211834Z
LAST-MODIFIED:20260326T211834Z
UID:10001364-1774634400-1774641600@finleyfarmsmo.com
SUMMARY:After Hours at The Workshop
DESCRIPTION:Join us for a relaxed evening featuring handcrafted cocktails\, wine and beer specials\, along with lattes and our full Workshop menu.  \nWhen the weather allows\, our wood-fired pizzas will also be available.\n*Please note that on March 27\, we will not have our wood-fired pizzas available. They will be available starting April 3.  \nEnjoy live music\, casual games\, and the cozy atmosphere that makes Finley Farms the perfect place to unwind after dark. \nNo registration is required.
URL:https://finleyfarmsmo.com/events/after-hours-at-the-workshop-2/
LOCATION:The Workshop\, 840 Finley Farms Ln\, Ozark\, MO\, 65721\, United States
CATEGORIES:Workshop
ATTACH;FMTTYPE=image/jpeg:https://finleyfarmsmo.com/wp-content/uploads/2026/03/4K-Ultra-HD-JPG-2026_Finley_Events_Galentines-24-2-scaled.jpg
END:VEVENT
BEGIN:VEVENT
DTSTART;TZID=America/Chicago:20260328T100000
DTEND;TZID=America/Chicago:20260328T111500
DTSTAMP:20260421T071806
CREATED:20260123T223323Z
LAST-MODIFIED:20260223T160601Z
UID:10001336-1774692000-1774696500@finleyfarmsmo.com
SUMMARY:Rise Into Spring: A Yoga & Sound Healing Experience
DESCRIPTION:Welcome the season of renewal with a gentle yoga flow class for all levels\, followed by a deeply restorative sound healing experience. Support balance and embody awareness with Leslie Smith\, E-RYT 200 Yoga Teacher & Certified Sound Healing Facilitator in the beautiful Open-Air Chapel along the Finley River. This experience invites you to move\, breathe\, and receive in connection with nature.   \nEquipment is not provided. Feel free to bring yoga mats\, water bottles\, blankets\, or anything else that would make you comfortable. \nTickets must be purchased directly from Finley Farms. We are unable to issue refunds for tickets purchased through third party sellers.
URL:https://finleyfarmsmo.com/events/rise-into-spring-a-yoga-sound-healing-experience/
LOCATION:The Chapel\, 840 Finley Farms Ln\, Ozark\, MO\, 65721\, United States
CATEGORIES:Health,Outdoor
ATTACH;FMTTYPE=image/jpeg:https://finleyfarmsmo.com/wp-content/uploads/2026/01/yoga-1.jpg
END:VEVENT
BEGIN:VEVENT
DTSTART;TZID=America/Chicago:20260328T170000
DTEND;TZID=America/Chicago:20260328T190000
DTSTAMP:20260421T071806
CREATED:20260202T221449Z
LAST-MODIFIED:20260309T145939Z
UID:10001340-1774717200-1774724400@finleyfarmsmo.com
SUMMARY:Farm to Bridge Dinner\, Alpha-Gal Friendly
DESCRIPTION:Chef Allen has thoughtfully curated an indulgent\, elevated menu designed to be completely free of Alpha-Gal allergens.\nThis evening is all about enjoying a stress-free dining experience that goes far beyond basic\, while exploring new and delicious possibilities within an Alpha-Gal friendly diet. \nJoin us on The Riverside Bridge to take in the beauty of spring while enjoying a six course menu.\nGuests will also enjoy carefully selected wine pairings\, curated with the same attention to ensure a safe and worry-free experience.
URL:https://finleyfarmsmo.com/events/farm-to-bridge-dinner-alpha-gal-friendly/
LOCATION:Missouri
CATEGORIES:Event
ATTACH;FMTTYPE=image/jpeg:https://finleyfarmsmo.com/wp-content/uploads/2026/02/ChatGPT-Image-Feb-2-2026-04_08_56-PM.jpeg
END:VEVENT
END:VCALENDAR