BEGIN:VCALENDAR
VERSION:2.0
PRODID:-//Finley Farms - ECPv6.15.20//NONSGML v1.0//EN
CALSCALE:GREGORIAN
METHOD:PUBLISH
X-WR-CALNAME:Finley Farms
X-ORIGINAL-URL:https://finleyfarmsmo.com
X-WR-CALDESC:Events for Finley Farms
REFRESH-INTERVAL;VALUE=DURATION:PT1H
X-Robots-Tag:noindex
X-PUBLISHED-TTL:PT1H
BEGIN:VTIMEZONE
TZID:America/Chicago
BEGIN:DAYLIGHT
TZOFFSETFROM:-0600
TZOFFSETTO:-0500
TZNAME:CDT
DTSTART:20250309T080000
END:DAYLIGHT
BEGIN:STANDARD
TZOFFSETFROM:-0500
TZOFFSETTO:-0600
TZNAME:CST
DTSTART:20251102T070000
END:STANDARD
BEGIN:DAYLIGHT
TZOFFSETFROM:-0600
TZOFFSETTO:-0500
TZNAME:CDT
DTSTART:20260308T080000
END:DAYLIGHT
BEGIN:STANDARD
TZOFFSETFROM:-0500
TZOFFSETTO:-0600
TZNAME:CST
DTSTART:20261101T070000
END:STANDARD
BEGIN:DAYLIGHT
TZOFFSETFROM:-0600
TZOFFSETTO:-0500
TZNAME:CDT
DTSTART:20270314T080000
END:DAYLIGHT
BEGIN:STANDARD
TZOFFSETFROM:-0500
TZOFFSETTO:-0600
TZNAME:CST
DTSTART:20271107T070000
END:STANDARD
END:VTIMEZONE
BEGIN:VEVENT
DTSTART;TZID=America/Chicago:20260428T180000
DTEND;TZID=America/Chicago:20260428T200000
DTSTAMP:20260421T104631
CREATED:20260309T220127Z
LAST-MODIFIED:20260309T220127Z
UID:10001363-1777399200-1777406400@finleyfarmsmo.com
SUMMARY:Homemade Salves & Body Butters
DESCRIPTION:Get your hands into the craft of natural skin care with Canyon’s Edge Farm in this immersive\, hands-on workshop focused on making nourishing salves\, balms\, and body butters from scratch. We will walk through the basics of infusing oils\, how to choose the right oils and butters for different skin needs\, and how to confidently work with tallow to create rich\, effective remedies. You will learn why each ingredient matters and how to tailor blends for everyday use. \nDuring the workshop\, you will make your own calendula salve\, starting by infusing the oil yourself. Calendula is well known for its soothing properties\, making this salve a perfect staple for summer scrapes\, minor cuts\, bug bites\, and irritated skin.  \nEach participant will leave with a deeper understanding of natural formulations\, practical skills you can use at home\, a handmade calendula salve\, and a tallow body butter to take with you. \nNo prior experience is needed. Just come ready to learn\, create\, and get a little hands-on.
URL:https://finleyfarmsmo.com/events/homemade-salves-body-butters/
LOCATION:Missouri
CATEGORIES:DIY/crafts
ATTACH;FMTTYPE=image/jpeg:https://finleyfarmsmo.com/wp-content/uploads/2026/01/image2.jpeg
END:VEVENT
BEGIN:VEVENT
DTSTART;TZID=America/Chicago:20260424T180000
DTEND;TZID=America/Chicago:20260424T200000
DTSTAMP:20260421T104631
CREATED:20260410T173731Z
LAST-MODIFIED:20260410T174037Z
UID:10001354-1777053600-1777060800@finleyfarmsmo.com
SUMMARY:After Hours at The Workshop + Plant Sale
DESCRIPTION:Join us for a relaxed evening featuring handcrafted cocktails\, wine and beer specials\, along with lattes and our full Workshop menu.  \nWhen the weather allows\, our wood-fired pizzas will also be available. \nEnjoy live music\, casual games\, and the cozy atmosphere that makes Finley Farms the perfect place to unwind after dark.\n\nJust a heads up\, this After Hours is a little extra special with our Spring Plant Sale happening just outside. You can learn more about the plant sale here. \nNo registration is required.
URL:https://finleyfarmsmo.com/events/after-hours-at-the-workshop-3/
LOCATION:The Workshop\, 840 Finley Farms Ln\, Ozark\, MO\, 65721\, United States
CATEGORIES:Workshop
ATTACH;FMTTYPE=image/jpeg:https://finleyfarmsmo.com/wp-content/uploads/2026/03/4K-Ultra-HD-JPG-2026_Finley_Events_Galentines-24-2-scaled.jpg
END:VEVENT
BEGIN:VEVENT
DTSTART;TZID=America/Chicago:20260422T180000
DTEND;TZID=America/Chicago:20260422T200000
DTSTAMP:20260421T104631
CREATED:20260309T202241Z
LAST-MODIFIED:20260330T183741Z
UID:10001359-1776880800-1776888000@finleyfarmsmo.com
SUMMARY:Wood Hat Dinner | The Garrison
DESCRIPTION:Meet Gary Hinegardner\, founder and owner of Wood Hat Spirits Distillery\, located in New Florence Missouri\, and learn about his ground-breaking work in the craft bourbon world.  \nFor Gary\, it’s all about the corn\, and his bourbons and whiskeys showcase heirloom corn varieties not found in any other bourbon on the market.  \nFeaturing a mix of old moonshine distilling methods and new\, carbon-neutral methods\, Wood Hat Spirits is truly one of a kind.  \nEnjoy some of his classic pours complimented by courses created to add depth to the flavors found in each pour.  \nUpgrade to a VIP experience\, and enjoy a bonus pour with a sweet pairing\, and mingle with Gary and the Chefs after dinner. \nThis dinner\, like many of our other events\, is a social experience – either seated with friends or strangers who become friends. To ensure seating with your group\, please reserve under one name. Tables can accommodate up to 5. For groups larger than this\, please email owirth@basspro.com.
URL:https://finleyfarmsmo.com/events/wood-hat-dinner-the-garrison/
LOCATION:The Garrison
CATEGORIES:Event
ATTACH;FMTTYPE=image/jpeg:https://finleyfarmsmo.com/wp-content/uploads/2026/03/HD-JPG-large-The-Garrison-at-Finley-Farms-2.jpg
END:VEVENT
END:VCALENDAR