BEGIN:VCALENDAR
VERSION:2.0
PRODID:-//Finley Farms - ECPv6.15.20//NONSGML v1.0//EN
CALSCALE:GREGORIAN
METHOD:PUBLISH
X-WR-CALNAME:Finley Farms
X-ORIGINAL-URL:https://finleyfarmsmo.com
X-WR-CALDESC:Events for Finley Farms
REFRESH-INTERVAL;VALUE=DURATION:PT1H
X-Robots-Tag:noindex
X-PUBLISHED-TTL:PT1H
BEGIN:VTIMEZONE
TZID:America/Chicago
BEGIN:DAYLIGHT
TZOFFSETFROM:-0600
TZOFFSETTO:-0500
TZNAME:CDT
DTSTART:20250309T080000
END:DAYLIGHT
BEGIN:STANDARD
TZOFFSETFROM:-0500
TZOFFSETTO:-0600
TZNAME:CST
DTSTART:20251102T070000
END:STANDARD
BEGIN:DAYLIGHT
TZOFFSETFROM:-0600
TZOFFSETTO:-0500
TZNAME:CDT
DTSTART:20260308T080000
END:DAYLIGHT
BEGIN:STANDARD
TZOFFSETFROM:-0500
TZOFFSETTO:-0600
TZNAME:CST
DTSTART:20261101T070000
END:STANDARD
BEGIN:DAYLIGHT
TZOFFSETFROM:-0600
TZOFFSETTO:-0500
TZNAME:CDT
DTSTART:20270314T080000
END:DAYLIGHT
BEGIN:STANDARD
TZOFFSETFROM:-0500
TZOFFSETTO:-0600
TZNAME:CST
DTSTART:20271107T070000
END:STANDARD
END:VTIMEZONE
BEGIN:VEVENT
DTSTART;TZID=America/Chicago:20260509T180000
DTEND;TZID=America/Chicago:20260509T200000
DTSTAMP:20260423T095957
CREATED:20260325T211804Z
LAST-MODIFIED:20260325T212820Z
UID:10001384-1778349600-1778356800@finleyfarmsmo.com
SUMMARY:Mother's Day Plant & Sip with St. Germain
DESCRIPTION:Celebrate Mother’s Day in full bloom at The Workshop at Finley Farms with a Plant & Sip experience\, brought to you by St-Germain! \nIndulge in three delicious cocktails crafted with St-Germain elderflower liqueur\, decoupage a terracotta pot\, and plant a seedling from our farm.  \nEnjoy small bites and conversation\, and soak up the relaxing beauty of our farm as summer approaches.
URL:https://finleyfarmsmo.com/events/mothers-day-plant-sip-with-st-germain-2/
LOCATION:The Workshop\, 840 Finley Farms Ln\, Ozark\, MO\, 65721\, United States
CATEGORIES:Cocktails,Gardening
ATTACH;FMTTYPE=image/jpeg:https://finleyfarmsmo.com/wp-content/uploads/2026/03/nathalie-klippert-9II6ibogNLk-unsplash-2-scaled.jpeg
END:VEVENT
END:VCALENDAR