BEGIN:VCALENDAR
VERSION:2.0
PRODID:-//Finley Farms - ECPv6.15.20//NONSGML v1.0//EN
CALSCALE:GREGORIAN
METHOD:PUBLISH
X-ORIGINAL-URL:https://finleyfarmsmo.com
X-WR-CALDESC:Events for Finley Farms
REFRESH-INTERVAL;VALUE=DURATION:PT1H
X-Robots-Tag:noindex
X-PUBLISHED-TTL:PT1H
BEGIN:VTIMEZONE
TZID:America/Chicago
BEGIN:DAYLIGHT
TZOFFSETFROM:-0600
TZOFFSETTO:-0500
TZNAME:CDT
DTSTART:20240310T080000
END:DAYLIGHT
BEGIN:STANDARD
TZOFFSETFROM:-0500
TZOFFSETTO:-0600
TZNAME:CST
DTSTART:20241103T070000
END:STANDARD
BEGIN:DAYLIGHT
TZOFFSETFROM:-0600
TZOFFSETTO:-0500
TZNAME:CDT
DTSTART:20250309T080000
END:DAYLIGHT
BEGIN:STANDARD
TZOFFSETFROM:-0500
TZOFFSETTO:-0600
TZNAME:CST
DTSTART:20251102T070000
END:STANDARD
BEGIN:DAYLIGHT
TZOFFSETFROM:-0600
TZOFFSETTO:-0500
TZNAME:CDT
DTSTART:20260308T080000
END:DAYLIGHT
BEGIN:STANDARD
TZOFFSETFROM:-0500
TZOFFSETTO:-0600
TZNAME:CST
DTSTART:20261101T070000
END:STANDARD
END:VTIMEZONE
BEGIN:VEVENT
DTSTART;TZID=America/Chicago:20250627T180000
DTEND;TZID=America/Chicago:20250627T190000
DTSTAMP:20260425T152358
CREATED:20250519T232309Z
LAST-MODIFIED:20250519T232325Z
UID:10001249-1751047200-1751050800@finleyfarmsmo.com
SUMMARY:Farm Cultivation & Cocktails
DESCRIPTION:Join Farmer Brendan in the garden during golden hour for an interactive farm tour and learn how to use different tools and gardening techniques. Participants can enjoy a craft cocktail or mocktail while touring the farm\, and will have an opportunity to try different tools and techniques for growing a diverse variety of crops. Enjoy an intimate and informal opportunity to learn new skills in the garden from our experienced and friendly farmers. \nThe focus of these classes will shift throughout the growing season based on what is happening in the gardens each month. All skill levels are welcome\, and gardening questions are encouraged. Participants will have an opportunity to engage with different tools on the farm\, and might even leave with a little dirt under their fingernails if inclined to weed into the sunset! \nTickets must be purchased directly from Finley Farms. We are unable to issue refunds for tickets obtained through unauthorized third-party sellers.
URL:https://finleyfarmsmo.com/events/farm-cultivation-cocktails-3/
LOCATION:MO
CATEGORIES:Cocktails,Gardening,Workshop
ATTACH;FMTTYPE=image/jpeg:https://finleyfarmsmo.com/wp-content/uploads/2025/05/4K-Ultra-HD-JPG-2021_FinleyFarms_TheFarm_000109-scaled.jpg
END:VEVENT
END:VCALENDAR