BEGIN:VCALENDAR
VERSION:2.0
PRODID:-//Finley Farms - ECPv6.15.20//NONSGML v1.0//EN
CALSCALE:GREGORIAN
METHOD:PUBLISH
X-WR-CALNAME:Finley Farms
X-ORIGINAL-URL:https://finleyfarmsmo.com
X-WR-CALDESC:Events for Finley Farms
REFRESH-INTERVAL;VALUE=DURATION:PT1H
X-Robots-Tag:noindex
X-PUBLISHED-TTL:PT1H
BEGIN:VTIMEZONE
TZID:America/Chicago
BEGIN:DAYLIGHT
TZOFFSETFROM:-0600
TZOFFSETTO:-0500
TZNAME:CDT
DTSTART:20250309T080000
END:DAYLIGHT
BEGIN:STANDARD
TZOFFSETFROM:-0500
TZOFFSETTO:-0600
TZNAME:CST
DTSTART:20251102T070000
END:STANDARD
BEGIN:DAYLIGHT
TZOFFSETFROM:-0600
TZOFFSETTO:-0500
TZNAME:CDT
DTSTART:20260308T080000
END:DAYLIGHT
BEGIN:STANDARD
TZOFFSETFROM:-0500
TZOFFSETTO:-0600
TZNAME:CST
DTSTART:20261101T070000
END:STANDARD
BEGIN:DAYLIGHT
TZOFFSETFROM:-0600
TZOFFSETTO:-0500
TZNAME:CDT
DTSTART:20270314T080000
END:DAYLIGHT
BEGIN:STANDARD
TZOFFSETFROM:-0500
TZOFFSETTO:-0600
TZNAME:CST
DTSTART:20271107T070000
END:STANDARD
END:VTIMEZONE
BEGIN:VEVENT
DTSTART;TZID=America/Chicago:20260501T180000
DTEND;TZID=America/Chicago:20260501T200000
DTSTAMP:20260421T025001
CREATED:20260410T174308Z
LAST-MODIFIED:20260410T174308Z
UID:10001381-1777658400-1777665600@finleyfarmsmo.com
SUMMARY:After Hours at The Workshop + Plant Sale
DESCRIPTION:Join us for a relaxed evening featuring handcrafted cocktails\, wine and beer specials\, along with lattes and our full Workshop menu.  \nWhen the weather allows\, our wood-fired pizzas will also be available. \nEnjoy live music\, casual games\, and the cozy atmosphere that makes Finley Farms the perfect place to unwind after dark.\n\nJust a heads up\, this After Hours is a little extra special with our Spring Plant Sale happening just outside. You can learn more about the plant sale here. \nNo registration is required.
URL:https://finleyfarmsmo.com/events/after-hours-at-the-workshop-4/
LOCATION:The Workshop\, 840 Finley Farms Ln\, Ozark\, MO\, 65721\, United States
CATEGORIES:Workshop
ATTACH;FMTTYPE=image/jpeg:https://finleyfarmsmo.com/wp-content/uploads/2026/03/4K-Ultra-HD-JPG-2026_Finley_Events_Galentines-24-2-scaled.jpg
END:VEVENT
BEGIN:VEVENT
DTSTART;TZID=America/Chicago:20260502T110000
DTEND;TZID=America/Chicago:20260502T120000
DTSTAMP:20260421T025001
CREATED:20260323T180956Z
LAST-MODIFIED:20260323T180956Z
UID:10001366-1777719600-1777723200@finleyfarmsmo.com
SUMMARY:Doggie Sippin’ | Session 2
DESCRIPTION:Enjoy patio season with your dog by your side! \nJoin Denise Holmes\, professional dog trainer\, for a casual\, one-hour session designed to help dogs become calm\, well-mannered companions in dog-friendly spaces. \nThese sessions are easy to attend on their own or as a series\, giving you and your dog the tools to relax\, connect\, and enjoy being out together. \nIn a laid-back\, supportive setting\, you’ll practice one of four key behaviors—Session 1: Look at Me\, Session 2: Leave It\, Session 3: Friendly Greetings\, or Session 4: Settle at Table—while learning how to use positive reinforcement to bring out your dog’s best. \nOne dog per person.\nThere is no age minimum\, but puppies and adults must be UTD on vaccinations\, as well as people and dog-tolerant. All dogs must be on a non-retractable leash.
URL:https://finleyfarmsmo.com/events/doggie-sippin-session-2/
LOCATION:The Event Lawn
CATEGORIES:Outdoor
ATTACH;FMTTYPE=image/jpeg:https://finleyfarmsmo.com/wp-content/uploads/2026/03/4K-Ultra-HD-JPG-2021_FinleyFarms_TheFarm_000126-scaled.jpg
END:VEVENT
BEGIN:VEVENT
DTSTART;TZID=America/Chicago:20260502T161500
DTEND;TZID=America/Chicago:20260502T170000
DTSTAMP:20260421T025001
CREATED:20260323T182125Z
LAST-MODIFIED:20260323T182125Z
UID:10001367-1777738500-1777741200@finleyfarmsmo.com
SUMMARY:Baby Goat Yoga
DESCRIPTION:Join us for an afternoon of baby goat yoga at Finley Farms. \nWe’ll gather in the Market Shed by The Workshop for a gentle\, all-levels flow while our playful baby goats wander the space alongside you. It’s a lighthearted way to slow down\, stretch\, and spend time at the farm. \nWhether you’re new to yoga or have an established practice\, this class is designed to help you feel grounded and relaxed\, with a few four-legged distractions along the way. \nBring a water bottle and dress comfortably. We’ll take care of the rest.
URL:https://finleyfarmsmo.com/events/baby-goat-yoga-4/
LOCATION:Market Shed\, 802 Finley Farms Lane\, Ozark\, MO\, 65721\, United States
CATEGORIES:Outdoor
ATTACH;FMTTYPE=image/jpeg:https://finleyfarmsmo.com/wp-content/uploads/2026/03/matt-ketchum-S9xTrgGDHmk-unsplash-3-scaled-e1772747538717-1.jpg
END:VEVENT
BEGIN:VEVENT
DTSTART;TZID=America/Chicago:20260502T173000
DTEND;TZID=America/Chicago:20260502T181500
DTSTAMP:20260421T025001
CREATED:20260323T182501Z
LAST-MODIFIED:20260323T183101Z
UID:10001368-1777743000-1777745700@finleyfarmsmo.com
SUMMARY:Baby Goat Yoga
DESCRIPTION:Join us for an afternoon of baby goat yoga at Finley Farms. \nWe’ll gather in the Market Shed by The Workshop for a gentle\, all-levels flow while our playful baby goats wander the space alongside you. It’s a lighthearted way to slow down\, stretch\, and spend time at the farm. \nWhether you’re new to yoga or have an established practice\, this class is designed to help you feel grounded and relaxed\, with a few four-legged distractions along the way. \nBring a water bottle and dress comfortably. We’ll take care of the rest.
URL:https://finleyfarmsmo.com/events/baby-goat-yoga-6/
LOCATION:Market Shed\, 802 Finley Farms Lane\, Ozark\, MO\, 65721\, United States
CATEGORIES:Outdoor
ATTACH;FMTTYPE=image/jpeg:https://finleyfarmsmo.com/wp-content/uploads/2026/03/matt-ketchum-S9xTrgGDHmk-unsplash-3-scaled-e1772747538717-1.jpg
END:VEVENT
BEGIN:VEVENT
DTSTART;TZID=America/Chicago:20260503T110000
DTEND;TZID=America/Chicago:20260503T130000
DTSTAMP:20260421T025001
CREATED:20260323T194414Z
LAST-MODIFIED:20260323T194414Z
UID:10001371-1777806000-1777813200@finleyfarmsmo.com
SUMMARY:Beekeeping 101
DESCRIPTION:Step into the sweet world of beekeeping with Hanna from Hanna’s Bees Honey for an introduction to life in the hive. \nBeekeeping 101 explores the rhythms\, tools\, and tiny wonders that make beekeeping a rewarding craft. The class covers the basics of getting started\, from choosing a first hive to preparing a space\, along with essential equipment for the apiary\, what’s happening inside the hive\, and seasonal tips and tricks to nurture healthy colonies. \nWhether guests are dreaming of jars of golden honey\, hoping to support local pollinators\, or simply curious about the magic of the hive\, this is the perfect place to begin a beekeeping journey.
URL:https://finleyfarmsmo.com/events/beekeeping-101/
LOCATION:The Farmstead
CATEGORIES:Outdoor
ATTACH;FMTTYPE=image/jpeg:https://finleyfarmsmo.com/wp-content/uploads/2026/03/HD-JPG-2021_FinleyFarms_TheFarm_000256.jpg
END:VEVENT
BEGIN:VEVENT
DTSTART;TZID=America/Chicago:20260503T140000
DTEND;TZID=America/Chicago:20260503T160000
DTSTAMP:20260421T025001
CREATED:20260323T200418Z
LAST-MODIFIED:20260323T200418Z
UID:10001372-1777816800-1777824000@finleyfarmsmo.com
SUMMARY:Garden Bed Prep
DESCRIPTION:Join Farmer Brendan in the garden for an in-depth discussion and demonstration on how soil is prepared for planting.  \nThe session reviews a variety of tools and techniques\, along with the different amendments used to help build the rich soil at Finley Farms. \nQuestions are encouraged\, and participants will have the opportunity to test out different tools. Guests are encouraged to dress comfortably and come prepared to get a little dirty if they choose.
URL:https://finleyfarmsmo.com/events/garden-bed-prep/
LOCATION:MO
CATEGORIES:Gardening
ATTACH;FMTTYPE=image/jpeg:https://finleyfarmsmo.com/wp-content/uploads/2026/03/Full-HD-JPG-2021_FinleyFarms_TheFarm_000173.jpg
END:VEVENT
BEGIN:VEVENT
DTSTART;TZID=America/Chicago:20260503T161500
DTEND;TZID=America/Chicago:20260503T170000
DTSTAMP:20260421T025001
CREATED:20260323T182620Z
LAST-MODIFIED:20260323T183145Z
UID:10001369-1777824900-1777827600@finleyfarmsmo.com
SUMMARY:Baby Goat Yoga
DESCRIPTION:Join us for an afternoon of baby goat yoga at Finley Farms. \nWe’ll gather in the Market Shed by The Workshop for a gentle\, all-levels flow while our playful baby goats wander the space alongside you. It’s a lighthearted way to slow down\, stretch\, and spend time at the farm. \nWhether you’re new to yoga or have an established practice\, this class is designed to help you feel grounded and relaxed\, with a few four-legged distractions along the way. \nBring a water bottle and dress comfortably. We’ll take care of the rest.
URL:https://finleyfarmsmo.com/events/baby-goat-yoga-7/
LOCATION:Market Shed\, 802 Finley Farms Lane\, Ozark\, MO\, 65721\, United States
CATEGORIES:Outdoor
ATTACH;FMTTYPE=image/jpeg:https://finleyfarmsmo.com/wp-content/uploads/2026/03/matt-ketchum-S9xTrgGDHmk-unsplash-3-scaled-e1772747538717-1.jpg
END:VEVENT
BEGIN:VEVENT
DTSTART;TZID=America/Chicago:20260503T173000
DTEND;TZID=America/Chicago:20260503T181500
DTSTAMP:20260421T025001
CREATED:20260323T182749Z
LAST-MODIFIED:20260323T182749Z
UID:10001370-1777829400-1777832100@finleyfarmsmo.com
SUMMARY:Baby Goat Yoga
DESCRIPTION:Join us for an afternoon of baby goat yoga at Finley Farms. \nWe’ll gather in the Market Shed by The Workshop for a gentle\, all-levels flow while our playful baby goats wander the space alongside you. It’s a lighthearted way to slow down\, stretch\, and spend time at the farm. \nWhether you’re new to yoga or have an established practice\, this class is designed to help you feel grounded and relaxed\, with a few four-legged distractions along the way. \nBring a water bottle and dress comfortably. We’ll take care of the rest.
URL:https://finleyfarmsmo.com/events/baby-goat-yoga-8/
LOCATION:Market Shed\, 802 Finley Farms Lane\, Ozark\, MO\, 65721\, United States
CATEGORIES:Outdoor
ATTACH;FMTTYPE=image/jpeg:https://finleyfarmsmo.com/wp-content/uploads/2026/03/matt-ketchum-S9xTrgGDHmk-unsplash-3-scaled-e1772747538717-1.jpg
END:VEVENT
BEGIN:VEVENT
DTSTART;TZID=America/Chicago:20260508T180000
DTEND;TZID=America/Chicago:20260508T200000
DTSTAMP:20260421T025001
CREATED:20260306T211233Z
LAST-MODIFIED:20260325T210418Z
UID:10001382-1778263200-1778270400@finleyfarmsmo.com
SUMMARY:After Hours at The Workshop
DESCRIPTION:Join us for a relaxed evening featuring handcrafted cocktails\, wine and beer specials\, along with lattes and our full Workshop menu.  \nWhen the weather allows\, our wood-fired pizzas will also be available. \nEnjoy live music\, casual games\, and the cozy atmosphere that makes Finley Farms the perfect place to unwind after dark. \nNo registration is required.
URL:https://finleyfarmsmo.com/events/after-hours-at-the-workshop/2026-05-08/
LOCATION:The Workshop\, 840 Finley Farms Ln\, Ozark\, MO\, 65721\, United States
CATEGORIES:Workshop
ATTACH;FMTTYPE=image/jpeg:https://finleyfarmsmo.com/wp-content/uploads/2026/03/4K-Ultra-HD-JPG-2026_Finley_Events_Galentines-24-2-scaled.jpg
END:VEVENT
BEGIN:VEVENT
DTSTART;TZID=America/Chicago:20260509T100000
DTEND;TZID=America/Chicago:20260509T110000
DTSTAMP:20260421T025001
CREATED:20260326T160137Z
LAST-MODIFIED:20260326T160844Z
UID:10001385-1778320800-1778324400@finleyfarmsmo.com
SUMMARY:Kayaking the Finley | 11AM-12PM
DESCRIPTION:Start your day on the Finley River with a relaxed\, guided experience designed for beginners.  \nWonders of Wildlife adventure guides will walk you through the essentials like balance\, paddling\, and river safety in a calm\, supportive setting. Once you’re comfortable\, enjoy time on the water at your own pace while taking in the quiet beauty of the Ozarks. \nCHECK IN: The General Store in The Ozark Mill  \nStop by The Workshop after your float for a complimentary beverage.
URL:https://finleyfarmsmo.com/events/kayaking-the-finley-3/
LOCATION:The Ozark Mill at Finley Farms\, 802 Finley Farms Lane\, Ozark\, Missouri\, 65721
CATEGORIES:Outdoor
ATTACH;FMTTYPE=image/jpeg:https://finleyfarmsmo.com/wp-content/uploads/2026/03/IMG_1642-1-scaled-1.jpeg
END:VEVENT
BEGIN:VEVENT
DTSTART;TZID=America/Chicago:20260509T110000
DTEND;TZID=America/Chicago:20260509T130000
DTSTAMP:20260421T025001
CREATED:20260324T191350Z
LAST-MODIFIED:20260324T191350Z
UID:10001374-1778324400-1778331600@finleyfarmsmo.com
SUMMARY:Pressed Flower Frames
DESCRIPTION:Celebrate Mother’s Day at The Workshop with local flower artist Hannah Klein.  \nDiscover the beauty of pressed flower art as you create stunning pressed flower frames.\nUnder Hannah’s expert guidance\, you’ll learn the elements and principles of floral design\, crafting a unique piece of art to take home.\nThis is the perfect opportunity to honor the special day with creativity and elegance.
URL:https://finleyfarmsmo.com/events/pressed-flower-frames/
LOCATION:The Workshop\, 840 Finley Farms Ln\, Ozark\, MO\, 65721\, United States
CATEGORIES:DIY/crafts
ATTACH;FMTTYPE=image/jpeg:https://finleyfarmsmo.com/wp-content/uploads/2026/03/Untitled.jpg
END:VEVENT
BEGIN:VEVENT
DTSTART;TZID=America/Chicago:20260509T120000
DTEND;TZID=America/Chicago:20260509T130000
DTSTAMP:20260421T025001
CREATED:20260326T160833Z
LAST-MODIFIED:20260326T160924Z
UID:10001386-1778328000-1778331600@finleyfarmsmo.com
SUMMARY:Kayaking the Finley | 12PM-1PM
DESCRIPTION:Start your day on the Finley River with a relaxed\, guided experience designed for beginners. \nWonders of Wildlife adventure guides will walk you through the essentials like balance\, paddling\, and river safety in a calm\, supportive setting. Once you’re comfortable\, enjoy time on the water at your own pace while taking in the quiet beauty of the Ozarks. \nCHECK IN: The General Store in The Ozark Mill \nStop by The Workshop after your float for a complimentary beverage.
URL:https://finleyfarmsmo.com/events/kayaking-the-finley-12-1pm/
LOCATION:The Ozark Mill at Finley Farms\, 802 Finley Farms Lane\, Ozark\, Missouri\, 65721
CATEGORIES:Outdoor
ATTACH;FMTTYPE=image/jpeg:https://finleyfarmsmo.com/wp-content/uploads/2026/03/IMG_1642-1-scaled-2.jpeg
END:VEVENT
BEGIN:VEVENT
DTSTART;TZID=America/Chicago:20260509T180000
DTEND;TZID=America/Chicago:20260509T200000
DTSTAMP:20260421T025001
CREATED:20260325T211804Z
LAST-MODIFIED:20260325T212820Z
UID:10001384-1778349600-1778356800@finleyfarmsmo.com
SUMMARY:Mother's Day Plant & Sip with St. Germain
DESCRIPTION:Celebrate Mother’s Day in full bloom at The Workshop at Finley Farms with a Plant & Sip experience\, brought to you by St-Germain! \nIndulge in three delicious cocktails crafted with St-Germain elderflower liqueur\, decoupage a terracotta pot\, and plant a seedling from our farm.  \nEnjoy small bites and conversation\, and soak up the relaxing beauty of our farm as summer approaches.
URL:https://finleyfarmsmo.com/events/mothers-day-plant-sip-with-st-germain-2/
LOCATION:The Workshop\, 840 Finley Farms Ln\, Ozark\, MO\, 65721\, United States
CATEGORIES:Cocktails,Gardening
ATTACH;FMTTYPE=image/jpeg:https://finleyfarmsmo.com/wp-content/uploads/2026/03/nathalie-klippert-9II6ibogNLk-unsplash-2-scaled.jpeg
END:VEVENT
BEGIN:VEVENT
DTSTART;TZID=America/Chicago:20260512T173000
DTEND;TZID=America/Chicago:20260512T190000
DTSTAMP:20260421T025001
CREATED:20260326T203616Z
LAST-MODIFIED:20260326T205212Z
UID:10001388-1778607000-1778612400@finleyfarmsmo.com
SUMMARY:Mixology 101: Artisanal Tequila
DESCRIPTION:Join us in The Garrison for a special mixology experience. \nEnjoy a thoughtfully curated flight of three to four artisanal tequilas while exploring the history\, craftsmanship\, and techniques behind two classic cocktails\, the Paloma and the Margarita. Each pour highlights the unique character of the spirit\, with tequila at the center of the experience. \nThis class will feature a full coursed meal\, with elevated food pairings designed to complement and enhance the tasting notes of each tequila and cocktail. In keeping with the setting in The Garrison\, the culinary experience will reflect a more refined and intentional approach. \nGratuity is added at checkout.
URL:https://finleyfarmsmo.com/events/mixology-101-artisanal-tequila/2026-05-12/1/
LOCATION:The Garrison
CATEGORIES:Cocktails
ATTACH;FMTTYPE=image/jpeg:https://finleyfarmsmo.com/wp-content/uploads/2026/03/ChatGPT-Image-Mar-26-2026-03_27_53-PM.jpeg
END:VEVENT
BEGIN:VEVENT
DTSTART;TZID=America/Chicago:20260512T200000
DTEND;TZID=America/Chicago:20260512T213000
DTSTAMP:20260421T025001
CREATED:20260326T203616Z
LAST-MODIFIED:20260326T205212Z
UID:10001389-1778616000-1778621400@finleyfarmsmo.com
SUMMARY:Mixology 101: Artisanal Tequila
DESCRIPTION:Join us in The Garrison for a special mixology experience. \nEnjoy a thoughtfully curated flight of three to four artisanal tequilas while exploring the history\, craftsmanship\, and techniques behind two classic cocktails\, the Paloma and the Margarita. Each pour highlights the unique character of the spirit\, with tequila at the center of the experience. \nThis class will feature a full coursed meal\, with elevated food pairings designed to complement and enhance the tasting notes of each tequila and cocktail. In keeping with the setting in The Garrison\, the culinary experience will reflect a more refined and intentional approach. \nGratuity is added at checkout.
URL:https://finleyfarmsmo.com/events/mixology-101-artisanal-tequila/2026-05-12/2/
LOCATION:The Garrison
CATEGORIES:Cocktails
ATTACH;FMTTYPE=image/jpeg:https://finleyfarmsmo.com/wp-content/uploads/2026/03/ChatGPT-Image-Mar-26-2026-03_27_53-PM.jpeg
END:VEVENT
BEGIN:VEVENT
DTSTART;TZID=America/Chicago:20260516T110000
DTEND;TZID=America/Chicago:20260516T120000
DTSTAMP:20260421T025001
CREATED:20260324T193534Z
LAST-MODIFIED:20260324T193534Z
UID:10001375-1778929200-1778932800@finleyfarmsmo.com
SUMMARY:Doggie Sippin' | Session 3
DESCRIPTION:Enjoy patio season with your dog by your side! \nJoin Denise Holmes\, professional dog trainer\, for a casual\, one-hour session designed to help dogs become calm\, well-mannered companions in dog-friendly spaces. \nThese sessions are easy to attend on their own or as a series\, giving you and your dog the tools to relax\, connect\, and enjoy being out together. \nIn a laid-back\, supportive setting\, you’ll practice one of four key behaviors—Session 1: Look at Me\, Session 2: Leave It\, Session 3: Friendly Greetings\, or Session 4: Settle at Table—while learning how to use positive reinforcement to bring out your dog’s best. \nOne dog per person. \nThere is no age minimum\, but puppies and adults must be UTD on vaccinations\, as well as people and dog-tolerant. All dogs must be on a non-retractable leash.
URL:https://finleyfarmsmo.com/events/doggie-sippin-session-3/
LOCATION:The Workshop\, 840 Finley Farms Ln\, Ozark\, MO\, 65721\, United States
CATEGORIES:Outdoor
ATTACH;FMTTYPE=image/jpeg:https://finleyfarmsmo.com/wp-content/uploads/2026/03/4K-Ultra-HD-JPG-2021_FinleyFarms_TheFarm_000126-scaled.jpg
END:VEVENT
BEGIN:VEVENT
DTSTART;TZID=America/Chicago:20260516T160000
DTEND;TZID=America/Chicago:20260516T173000
DTSTAMP:20260421T025001
CREATED:20260324T195824Z
LAST-MODIFIED:20260324T195824Z
UID:10001376-1778947200-1778952600@finleyfarmsmo.com
SUMMARY:The Art of Barkuterie
DESCRIPTION:Bring your pup out to The Workshop patio for a pawsome date with Lavish Grazing!  \nJoin Kendra as she shows you how to create adorable grazing platters for your furry friends\, sharing creative styling and cutting techniques you can use for human charcuterie boards.\nYou’ll craft animal-shaped fruits and veggies while learning which snacks are pup-approved.  \nIt’s a playful and educational experience for both you and your furry friend.\n\nPets must be properly supervised with a leash and harness and remain within designated outdoor spaces at all times. Doggie bags are available on-site.
URL:https://finleyfarmsmo.com/events/the-art-of-barkuterie/
LOCATION:The Workshop\, 840 Finley Farms Ln\, Ozark\, MO\, 65721\, United States
CATEGORIES:Outdoor
ATTACH;FMTTYPE=image/jpeg:https://finleyfarmsmo.com/wp-content/uploads/2026/03/treat.jpg
END:VEVENT
BEGIN:VEVENT
DTSTART;TZID=America/Chicago:20260522T173000
DTEND;TZID=America/Chicago:20260522T193000
DTSTAMP:20260421T025001
CREATED:20260330T163946Z
LAST-MODIFIED:20260330T163946Z
UID:10001393-1779471000-1779478200@finleyfarmsmo.com
SUMMARY:Foraging with Wild Foods by Dyllan
DESCRIPTION:Guests are invited to join Dyllan of Wild Foods by Dyllan for a foraging journey throughout Finley Farms. \nDuring this guided experience\, participants will explore what is in season\, discovering wild herbs\, berries\, greens\, and other native ingredients growing across the property. \nThe foraging experience can be enjoyed on its own\, or guests may continue the journey at the Foraged Dinner on the Farm on May 23. That evening\, Executive Chef Brandon Peterson and Dyllan will prepare a multi-course dinner inspired by ingredients gathered during the foraging experience. \nWhether attending the foraging\, the dinner\, or both\, this experience offers a unique opportunity to learn\, explore\, and enjoy the flavors of the Ozarks.
URL:https://finleyfarmsmo.com/events/foraging-with-wild-foods-by-dyllan/
LOCATION:MO
CATEGORIES:Outdoor
ATTACH;FMTTYPE=image/jpeg:https://finleyfarmsmo.com/wp-content/uploads/2026/03/4K-Ultra-HD-JPG-2021_FinleyFarms_TheFarm_000166-scaled.jpg
END:VEVENT
BEGIN:VEVENT
DTSTART;TZID=America/Chicago:20260529T180000
DTEND;TZID=America/Chicago:20260529T200000
DTSTAMP:20260421T025001
CREATED:20260306T211233Z
LAST-MODIFIED:20260325T210418Z
UID:10001383-1780077600-1780084800@finleyfarmsmo.com
SUMMARY:After Hours at The Workshop
DESCRIPTION:Join us for a relaxed evening featuring handcrafted cocktails\, wine and beer specials\, along with lattes and our full Workshop menu.  \nWhen the weather allows\, our wood-fired pizzas will also be available. \nEnjoy live music\, casual games\, and the cozy atmosphere that makes Finley Farms the perfect place to unwind after dark. \nNo registration is required.
URL:https://finleyfarmsmo.com/events/after-hours-at-the-workshop/2026-05-29/
LOCATION:The Workshop\, 840 Finley Farms Ln\, Ozark\, MO\, 65721\, United States
CATEGORIES:Workshop
ATTACH;FMTTYPE=image/jpeg:https://finleyfarmsmo.com/wp-content/uploads/2026/03/4K-Ultra-HD-JPG-2026_Finley_Events_Galentines-24-2-scaled.jpg
END:VEVENT
BEGIN:VEVENT
DTSTART;TZID=America/Chicago:20260530T090000
DTEND;TZID=America/Chicago:20260530T100000
DTSTAMP:20260421T025001
CREATED:20260325T190438Z
LAST-MODIFIED:20260325T190557Z
UID:10001378-1780131600-1780135200@finleyfarmsmo.com
SUMMARY:Awaken the Senses: Yoga & Mindfulness in Nature
DESCRIPTION:Slow down and reconnect with yourself and nature through gentle yoga\, mindful movement\, and sensory awareness while surrounded by the natural beauty at Finley Farms. Led by Leslie Smith\, E-RYT 200\, Certified Transformational Coach & Sound Healing Facilitator\, this offering is suitable for all levels and invites you to move\, breathe\, and awaken your senses in harmony with the natural world.  \nThis grounding experience includes accessible yoga and nature-based mindfulness prompts designed to calm the nervous system and deepen presence and connection with the natural rhythms of life.\nThe session closes with a soothing moment of nature inspired sound healing to support relaxation and integration.\n\n*Please bring a yoga mat and water bottle.
URL:https://finleyfarmsmo.com/events/awaken-the-senses-yoga-mindfulness-in-nature/
LOCATION:The Chapel\, 840 Finley Farms Ln\, Ozark\, MO\, 65721\, United States
CATEGORIES:Outdoor
ATTACH;FMTTYPE=image/jpeg:https://finleyfarmsmo.com/wp-content/uploads/2026/03/4K-Ultra-HD-JPG-The-Chapel-at-Finley-Farms-CreditMOTourism-AaronFuhrman-4-scaled.jpg
END:VEVENT
BEGIN:VEVENT
DTSTART;TZID=America/Chicago:20260530T110000
DTEND;TZID=America/Chicago:20260530T120000
DTSTAMP:20260421T025001
CREATED:20260325T204721Z
LAST-MODIFIED:20260325T204721Z
UID:10001380-1780138800-1780142400@finleyfarmsmo.com
SUMMARY:Doggie Sippin' | Session 4
DESCRIPTION:Enjoy patio season with your dog by your side! \nJoin Denise Holmes\, professional dog trainer\, for a casual\, one-hour session designed to help dogs become calm\, well-mannered companions in dog-friendly spaces. \nThese sessions are easy to attend on their own or as a series\, giving you and your dog the tools to relax\, connect\, and enjoy being out together. \nIn a laid-back\, supportive setting\, you’ll practice one of four key behaviors—Session 1: Look at Me\, Session 2: Leave It\, Session 3: Friendly Greetings\, or Session 4: Settle at Table—while learning how to use positive reinforcement to bring out your dog’s best. \nOne dog per person. \nThere is no age minimum\, but puppies and adults must be UTD on vaccinations\, as well as people and dog-tolerant. All dogs must be on a non-retractable leash.
URL:https://finleyfarmsmo.com/events/doggie-sippin-session-4/
LOCATION:The Workshop\, 840 Finley Farms Ln\, Ozark\, MO\, 65721\, United States
CATEGORIES:Outdoor
ATTACH;FMTTYPE=image/jpeg:https://finleyfarmsmo.com/wp-content/uploads/2026/03/4K-Ultra-HD-JPG-2021_FinleyFarms_TheFarm_000126-scaled.jpg
END:VEVENT
END:VCALENDAR