BEGIN:VCALENDAR
VERSION:2.0
PRODID:-//Finley Farms - ECPv6.15.20//NONSGML v1.0//EN
CALSCALE:GREGORIAN
METHOD:PUBLISH
X-WR-CALNAME:Finley Farms
X-ORIGINAL-URL:https://finleyfarmsmo.com
X-WR-CALDESC:Events for Finley Farms
REFRESH-INTERVAL;VALUE=DURATION:PT1H
X-Robots-Tag:noindex
X-PUBLISHED-TTL:PT1H
BEGIN:VTIMEZONE
TZID:America/Chicago
BEGIN:DAYLIGHT
TZOFFSETFROM:-0600
TZOFFSETTO:-0500
TZNAME:CDT
DTSTART:20240310T080000
END:DAYLIGHT
BEGIN:STANDARD
TZOFFSETFROM:-0500
TZOFFSETTO:-0600
TZNAME:CST
DTSTART:20241103T070000
END:STANDARD
BEGIN:DAYLIGHT
TZOFFSETFROM:-0600
TZOFFSETTO:-0500
TZNAME:CDT
DTSTART:20250309T080000
END:DAYLIGHT
BEGIN:STANDARD
TZOFFSETFROM:-0500
TZOFFSETTO:-0600
TZNAME:CST
DTSTART:20251102T070000
END:STANDARD
BEGIN:DAYLIGHT
TZOFFSETFROM:-0600
TZOFFSETTO:-0500
TZNAME:CDT
DTSTART:20260308T080000
END:DAYLIGHT
BEGIN:STANDARD
TZOFFSETFROM:-0500
TZOFFSETTO:-0600
TZNAME:CST
DTSTART:20261101T070000
END:STANDARD
END:VTIMEZONE
BEGIN:VEVENT
DTSTART;TZID=America/Chicago:20250902T170000
DTEND;TZID=America/Chicago:20250902T200000
DTSTAMP:20260422T094358
CREATED:20250830T212127Z
LAST-MODIFIED:20250830T212127Z
UID:10001061-1756832400-1756843200@finleyfarmsmo.com
SUMMARY:Game Night at The Workshop
DESCRIPTION:Bring your favorite board games or explore our in-house collection and settle in for a night of casual fun with friends\, family\, and neighbors. Outside\, enjoy classic patio games like cornhole\, Giant Jenga\, and Connect 4\, perfect for all ages and skill levels.  \nAlongside our full menu\, we’ll be offering food and drink specials crafted to complement the evening.  \nRegistration is not required\, and seating will be available on a first-come\, first-served basis.
URL:https://finleyfarmsmo.com/events/game-night-at-the-workshop-4/
LOCATION:The Workshop\, 840 Finley Farms Ln\, Ozark\, MO\, 65721\, United States
CATEGORIES:Game Night
ATTACH;FMTTYPE=image/jpeg:https://finleyfarmsmo.com/wp-content/uploads/2025/08/4K-Ultra-HD-JPG-2020_FinleyFarms_TheWorkshop_00194-scaled.jpg
END:VEVENT
END:VCALENDAR