BEGIN:VCALENDAR
VERSION:2.0
PRODID:-//Finley Farms - ECPv6.15.20//NONSGML v1.0//EN
CALSCALE:GREGORIAN
METHOD:PUBLISH
X-WR-CALNAME:Finley Farms
X-ORIGINAL-URL:https://finleyfarmsmo.com
X-WR-CALDESC:Events for Finley Farms
REFRESH-INTERVAL;VALUE=DURATION:PT1H
X-Robots-Tag:noindex
X-PUBLISHED-TTL:PT1H
BEGIN:VTIMEZONE
TZID:America/Chicago
BEGIN:DAYLIGHT
TZOFFSETFROM:-0600
TZOFFSETTO:-0500
TZNAME:CDT
DTSTART:20250309T080000
END:DAYLIGHT
BEGIN:STANDARD
TZOFFSETFROM:-0500
TZOFFSETTO:-0600
TZNAME:CST
DTSTART:20251102T070000
END:STANDARD
BEGIN:DAYLIGHT
TZOFFSETFROM:-0600
TZOFFSETTO:-0500
TZNAME:CDT
DTSTART:20260308T080000
END:DAYLIGHT
BEGIN:STANDARD
TZOFFSETFROM:-0500
TZOFFSETTO:-0600
TZNAME:CST
DTSTART:20261101T070000
END:STANDARD
BEGIN:DAYLIGHT
TZOFFSETFROM:-0600
TZOFFSETTO:-0500
TZNAME:CDT
DTSTART:20270314T080000
END:DAYLIGHT
BEGIN:STANDARD
TZOFFSETFROM:-0500
TZOFFSETTO:-0600
TZNAME:CST
DTSTART:20271107T070000
END:STANDARD
END:VTIMEZONE
BEGIN:VEVENT
DTSTART;TZID=America/Chicago:20260523T140000
DTEND;TZID=America/Chicago:20260523T160000
DTSTAMP:20260425T074315
CREATED:20260325T164357Z
LAST-MODIFIED:20260330T153407Z
UID:10001377-1779544800-1779552000@finleyfarmsmo.com
SUMMARY:Spring Floral Arrangements
DESCRIPTION:Flower farmer and intentional florist Cherelle Hitchcock invites you to create a beautiful bouquet using the freshest flowers spring has to offer\, with premium blooms grown right here in Missouri.  \nLearn about harvesting and designing arrangements with aromatic\, specialty narcissus\, ranunculus\, anemones\, tulips\, stock\, and seasonal foliage.  \nCome ready to get creative and leave with a vase arrangement you’ll love!
URL:https://finleyfarmsmo.com/events/spring-floral-arrangements/
LOCATION:The Farmstead
ATTACH;FMTTYPE=image/jpeg:https://finleyfarmsmo.com/wp-content/uploads/2026/03/flowers.jpeg
END:VEVENT
BEGIN:VEVENT
DTSTART;TZID=America/Chicago:20260523T180000
DTEND;TZID=America/Chicago:20260523T200000
DTSTAMP:20260425T074315
CREATED:20260330T161744Z
LAST-MODIFIED:20260330T164123Z
UID:10001392-1779559200-1779566400@finleyfarmsmo.com
SUMMARY:Foraged Dinner on The Farm
DESCRIPTION:Join Executive Chef Brandon Peterson of Finley Farms and Chef Dyllan Dale of Wild Foods by Dyllan for a refined\, seasonally focused dinner on The Farm.  \nChef Brandon is known for showcasing fresh\, garden-grown ingredients through hands-on culinary experiences at Finley Farms\, while Chef Dyllan brings a distinctive approach centered on hyper-local\, foraged foods gathered throughout the Ozarks.\nTogether\, the chefs will curate a thoughtfully prepared menu that blends cultivated produce with wild\, foraged elements\, highlighting the flavors and culinary heritage of the Ozarks. \nWith each course\, enjoy thoughtfully crafted non-alcoholic pairings featuring high-end\, health-conscious ingredients to welcome the coming of spring. \nTo enhance your experience\, guests are invited to join Dyllan for a foraging expedition leading up to the dinner. \nAll pairings for this dinner are non-alcoholic. Reserve your seat and view optional alcoholic pairing upgrades at the link below.
URL:https://finleyfarmsmo.com/events/foraged-dinner-on-the-farm/
LOCATION:Missouri
CATEGORIES:Event
ATTACH;FMTTYPE=image/jpeg:https://finleyfarmsmo.com/wp-content/uploads/2026/03/4K-Ultra-HD-JPG-2025_Finley_Dining_TheFarm-7-11-scaled.jpeg
END:VEVENT
END:VCALENDAR