BEGIN:VCALENDAR
VERSION:2.0
PRODID:-//Finley Farms - ECPv6.15.20//NONSGML v1.0//EN
CALSCALE:GREGORIAN
METHOD:PUBLISH
X-WR-CALNAME:Finley Farms
X-ORIGINAL-URL:https://finleyfarmsmo.com
X-WR-CALDESC:Events for Finley Farms
REFRESH-INTERVAL;VALUE=DURATION:PT1H
X-Robots-Tag:noindex
X-PUBLISHED-TTL:PT1H
BEGIN:VTIMEZONE
TZID:America/Chicago
BEGIN:DAYLIGHT
TZOFFSETFROM:-0600
TZOFFSETTO:-0500
TZNAME:CDT
DTSTART:20250309T080000
END:DAYLIGHT
BEGIN:STANDARD
TZOFFSETFROM:-0500
TZOFFSETTO:-0600
TZNAME:CST
DTSTART:20251102T070000
END:STANDARD
BEGIN:DAYLIGHT
TZOFFSETFROM:-0600
TZOFFSETTO:-0500
TZNAME:CDT
DTSTART:20260308T080000
END:DAYLIGHT
BEGIN:STANDARD
TZOFFSETFROM:-0500
TZOFFSETTO:-0600
TZNAME:CST
DTSTART:20261101T070000
END:STANDARD
BEGIN:DAYLIGHT
TZOFFSETFROM:-0600
TZOFFSETTO:-0500
TZNAME:CDT
DTSTART:20270314T080000
END:DAYLIGHT
BEGIN:STANDARD
TZOFFSETFROM:-0500
TZOFFSETTO:-0600
TZNAME:CST
DTSTART:20271107T070000
END:STANDARD
END:VTIMEZONE
BEGIN:VEVENT
DTSTART;TZID=America/Chicago:20260515T180000
DTEND;TZID=America/Chicago:20260515T200000
DTSTAMP:20260425T061951
CREATED:20260326T194359Z
LAST-MODIFIED:20260326T194359Z
UID:10001387-1778868000-1778875200@finleyfarmsmo.com
SUMMARY:Tacos & Tequila
DESCRIPTION:Join us in partnership with Cazadores for a festive evening of tequila\, tacos\, and salsa dancing. \nSpend the night connecting\, learning\, and indulging in a vibrant culinary experience. This event will feature a coursed dinner designed by our chef\, thoughtfully paired with a Cazadores tequila flight and select cocktails. \nThroughout the evening\, you will explore the rich history and craftsmanship behind Cazadores tequila while enjoying each course. Then take to the dance floor as a salsa instructor guides you through the rhythms of the night. \nFor an elevated finish\, upgrade to a VIP experience and enjoy exclusive after-dancing access\, including additional sweet bites and the opportunity to connect with our Cazadores expert and executive chef. \nYour ticket includes a full dinner\, tequila flight\, cocktails\, and salsa instruction\, creating an unforgettable evening.
URL:https://finleyfarmsmo.com/events/tacos-tequila/
LOCATION:The Ozark Mill at Finley Farms\, 802 Finley Farms Lane\, Ozark\, Missouri\, 65721
CATEGORIES:Event
ATTACH;FMTTYPE=image/jpeg:https://finleyfarmsmo.com/wp-content/uploads/2026/03/Image-16.jpeg
END:VEVENT
END:VCALENDAR